BEGIN:VCALENDAR
VERSION:2.0
PRODID:-//hacksw/handcal//NONSGML v1.0//EN
CALSCALE:GREGORIAN
BEGIN:VEVENT
LOCATION:
DESCRIPTION:Plus de 100 enfants viendront déambuler de la Place du Promenoir jusqu&rsquo;au Parvis de la...
DTSTART:20260417T144500
DTEND:20260418
SUMMARY:Carnaval des centres de loisirs
URL;VALUE=URI:https://www.villefranche.net/agenda/carnaval-des-centres-de-loisirs/
DTSTAMP:20260422T085736
UID:69e88d803c598
END:VEVENT
END:VCALENDAR