BEGIN:VCALENDAR
VERSION:2.0
PRODID:-//hacksw/handcal//NONSGML v1.0//EN
CALSCALE:GREGORIAN
BEGIN:VEVENT
LOCATION:
DESCRIPTION:Photos, peintures, sculptures, dessins….. Vous trouverez surement ce qu&rsquo;il vous faut ! Le programme :
DTSTART:20260331
DTEND:20260504
SUMMARY:En avril à la Galerie Municipale
URL;VALUE=URI:https://www.villefranche.net/agenda/en-avril-a-la-galerie-municipale/
DTSTAMP:20260422T090108
UID:69e88e549c2f9
END:VEVENT
END:VCALENDAR