BEGIN:VCALENDAR
VERSION:2.0
PRODID:-//hacksw/handcal//NONSGML v1.0//EN
CALSCALE:GREGORIAN
BEGIN:VEVENT
LOCATION:
DESCRIPTION:Retrouver tout les manifestations sportives de vos clubs et associations sportives préférés sur tout le...
DTSTART:20260417
DTEND:20260420
SUMMARY:Feuille de match du 17 au 19 avril
URL;VALUE=URI:https://www.villefranche.net/?post_type=event&p=15372
DTSTAMP:20260422T090036
UID:69e88e3421c1d
END:VEVENT
END:VCALENDAR