BEGIN:VCALENDAR
VERSION:2.0
PRODID:-//hacksw/handcal//NONSGML v1.0//EN
CALSCALE:GREGORIAN
BEGIN:VEVENT
LOCATION:
DESCRIPTION:Habitée depuis longtemps par le sujet du paysage, Sylvie Dupin recourt à des matériaux humbles...
DTSTART:20260313
DTEND:20260426
SUMMARY:Galerie le 116art – Sylvie Dupin 
URL;VALUE=URI:https://www.villefranche.net/agenda/galerie-le-116art-sylvie-dupin/
DTSTAMP:20260422T085615
UID:69e88d2f629d3
END:VEVENT
END:VCALENDAR