BEGIN:VCALENDAR
VERSION:2.0
PRODID:-//hacksw/handcal//NONSGML v1.0//EN
CALSCALE:GREGORIAN
BEGIN:VEVENT
LOCATION:
DESCRIPTION:Du 8 avril au 5 mai, Les 400 Coups et l’association L’Autre Cinéma lancent une...
DTSTART:20260408
DTEND:20260506
SUMMARY: Les 400 Coups – ItaliaCinema
URL;VALUE=URI:https://www.villefranche.net/agenda/les-400-coups-italiacinema/
DTSTAMP:20260422T085508
UID:69e88cec137fb
END:VEVENT
END:VCALENDAR