BEGIN:VCALENDAR
VERSION:2.0
PRODID:-//hacksw/handcal//NONSGML v1.0//EN
CALSCALE:GREGORIAN
BEGIN:VEVENT
LOCATION:
DESCRIPTION:Venez découvrir la maison de Victor Vermorel construite au début du XXème siècle dans un style...
DTSTART:20260503
DTEND:20260504
SUMMARY:Maison Vermorel – Visite libre
URL;VALUE=URI:https://www.villefranche.net/agenda/maison-vermorel-visite-libre-2/
DTSTAMP:20260423T134931
UID:69ea236be0ae4
END:VEVENT
END:VCALENDAR