BEGIN:VCALENDAR
VERSION:2.0
PRODID:-//hacksw/handcal//NONSGML v1.0//EN
CALSCALE:GREGORIAN
BEGIN:VEVENT
LOCATION:
DESCRIPTION:Ateliers familiaux, littérature (Quai du Polar), cinéma, patrimoine, ateliers numériques… Il y en aura pour...
DTSTART:20260401
DTEND:20260501
SUMMARY:Médiathèque – le programme d’avril
URL;VALUE=URI:https://www.villefranche.net/agenda/mediatheque-le-programme-davril/
DTSTAMP:20260422T085445
UID:69e88cd5dada3
END:VEVENT
END:VCALENDAR