BEGIN:VCALENDAR
VERSION:2.0
PRODID:-//hacksw/handcal//NONSGML v1.0//EN
CALSCALE:GREGORIAN
BEGIN:VEVENT
LOCATION:
DESCRIPTION:Cette 17e édition du festival sera l’occasion de se rassembler et de célébrer les mots,...
DTSTART:20260415
DTEND:20260501
SUMMARY:Médiathèque – Semaine littéraire
URL;VALUE=URI:https://www.villefranche.net/agenda/mediatheque-semaine-litteraire/
DTSTAMP:20260422T085419
UID:69e88cbb06538
END:VEVENT
END:VCALENDAR