BEGIN:VCALENDAR
VERSION:2.0
PRODID:-//hacksw/handcal//NONSGML v1.0//EN
CALSCALE:GREGORIAN
BEGIN:VEVENT
LOCATION:
DESCRIPTION:Le programme Toute la journée
DTSTART:20260426T100000
DTEND:20260426T180000
SUMMARY:Sapeurs pompiers de Villefranche – Journée portes ouvertes
URL;VALUE=URI:https://www.villefranche.net/agenda/sapeurs-pompiers-de-villefranche-journee-portes-ouvertes/
DTSTAMP:20260423T134815
UID:69ea231fa5dcb
END:VEVENT
END:VCALENDAR